BEGIN:VCALENDAR
VERSION:2.0
PRODID:-//eventon.com NONSGML v1.0//EN
CALSCALE:GREGORIAN
METHOD:PUBLISH
BEGIN:VEVENT
UID:69e91d42b78b7
DTSTAMP:20260422T191058Z
DTSTART:20230928T200000Z
DTEND:20231001T100000Z
LOCATION:
SUMMARY:Street Food Festival 2023 Thessaloniki : Γιορτή για Foodies στη ΔΕΘ
DESCRIPTION:25 Μάι &#8211; 28 Μάι 2023 Thessaloniki Street Food Fes
 tival 2023: Γιορτή για Foodies στη ΔΕΘ – #TSFF2023 ΔΕΘ 
 – Helexpo Εγνατία 154\,  Θεσσαλονίκη Τηλέφωνο 
 πικοινωνίας: 2311 243 505 / Εισιτήρια: Τιμές ε
 ισιτηρίων: Ημερήσιο 4€\,  Ελεύθερη είσοδο
  για παιδιά κάτω των 14 ετών / Προπώληση: v
 iva.gr / Πληροφορίες: soulfoodthessaloniki@gmail.com / Ώρ
 ες &amp; Ημέρες λειτουργίας: Πέμπτη &amp; Παρ
 σκευή: 18:00 – 00:00\,  Σάββατο &amp;[..]\nhttps://cityofgas
 tronomy.thessaloniki.gr/events/thessaloniki-street-food-festival-2023-%ce%b
 3%ce%b9%ce%bf%cf%81%cf%84%ce%ae-%ce%b3%ce%b9%ce%b1-foodies-%cf%83%cf%84%ce%
 b7-%ce%b4%ce%b5%ce%b8/
URL:https://cityofgastronomy.thessaloniki.gr/events/thessaloniki-street-food-festival-2023-%ce%b3%ce%b9%ce%bf%cf%81%cf%84%ce%ae-%ce%b3%ce%b9%ce%b1-foodies-%cf%83%cf%84%ce%b7-%ce%b4%ce%b5%ce%b8/
END:VEVENT
END:VCALENDAR